BEGIN:VCALENDAR
VERSION:2.0
PRODID:-//SKU - ECPv6.15.20//NONSGML v1.0//EN
CALSCALE:GREGORIAN
METHOD:PUBLISH
X-ORIGINAL-URL:https://sku.is
X-WR-CALDESC:Events for SKU
REFRESH-INTERVAL;VALUE=DURATION:PT1H
X-Robots-Tag:noindex
X-PUBLISHED-TTL:PT1H
BEGIN:VTIMEZONE
TZID:America/Chicago
BEGIN:DAYLIGHT
TZOFFSETFROM:-0600
TZOFFSETTO:-0500
TZNAME:CDT
DTSTART:20240310T080000
END:DAYLIGHT
BEGIN:STANDARD
TZOFFSETFROM:-0500
TZOFFSETTO:-0600
TZNAME:CST
DTSTART:20241103T070000
END:STANDARD
BEGIN:DAYLIGHT
TZOFFSETFROM:-0600
TZOFFSETTO:-0500
TZNAME:CDT
DTSTART:20250309T080000
END:DAYLIGHT
BEGIN:STANDARD
TZOFFSETFROM:-0500
TZOFFSETTO:-0600
TZNAME:CST
DTSTART:20251102T070000
END:STANDARD
BEGIN:DAYLIGHT
TZOFFSETFROM:-0600
TZOFFSETTO:-0500
TZNAME:CDT
DTSTART:20260308T080000
END:DAYLIGHT
BEGIN:STANDARD
TZOFFSETFROM:-0500
TZOFFSETTO:-0600
TZNAME:CST
DTSTART:20261101T070000
END:STANDARD
END:VTIMEZONE
BEGIN:VEVENT
DTSTART;TZID=America/Chicago:20250520T043000
DTEND;TZID=America/Chicago:20250520T210000
DTSTAMP:20260424T024216
CREATED:20250321T135227Z
LAST-MODIFIED:20250424T151710Z
UID:10000045-1747715400-1747774800@sku.is
SUMMARY:SKU Spring '25 CPG Showcase Pitch Event
DESCRIPTION:SKU\, the nation’s leading CPG accelerator\, will celebrate the culmination of the Spring ’25 Track with an in-person event in Austin on Tue\, May 20th  from 4:30-9:00 PM at Robert B. Rowling Hall at the University of Texas McComb’s School of Business. RSVP here to attend the event – one of the industry’s premiere pitch events. \nThe SKU Showcase provides an opportunity for founders to present to an audience of CPG leaders from around the country\, integrating all they have learned during the immersive 12-week program. The  founders participate in weekly classes led by industry experts\, covering essential topics for CPG entrepreneurs\, including channel strategy\, branding\, packaging\, labeling and safety\, operations\, and fundraising. \nThe eight Spring ‘25 Track brands are: \nFairly Nuts: Founded by Julie Wolf\, FairlyNuts offers a carnival of delicious trail mixes made from  in-house roasted mixes of nuts\, all packaged sustainably.   \ngood dirt: Founded by c good dirt® is a delicious low-sugar sparkling beverage brand using mushrooms and fiber for optimal digestive support and overall well-being. \nKobi: Founded by Siôn Owen\, Kobi makes better body care products for kids and teens designed specifically for the more sensitive skin that young people have. Kobi currently offers kid-friendly deodorant\, face wash\, body wash\, and foot spray\, with more products in the works. \nNiramaya: Founded by Mehek Khera\, Niramaya is an Indian-American snack food brand that brings healthy\, grain free snacks with bold flavors that everyone can enjoy at any time of the day. They have a line of 3 versatile dips and 4 flavors of Naan Pretzels. \nPetPax Co: Founded by Anthony Gatti and Nathan Ruff-Williams\, PetPax is revolutionizing pet wellness with fast-acting\, science-backed supplements designed for convenience and effectiveness. \npi00a: Founded by Rylan\, Russ\, Melody and Tasyia Stein\, pi00a is a Deaf and CODA family owned business that specializes in handcrafted frozen Asian-inspired Neapolitan pizzas. Their mission is to create job opportunities for the Deaf community. \nRookie’s: Founded by Jordan and Holly Nickerson\, Rookie’s seeks to create “memorable dessert experiences” through its handcrafted ice cream and cookie sandwiches. \nSaint Rocco’s Treats: Founded by brothers Kaleb and Kolby Rush\, Saint Rocco’s makes human-grade dog treats\, meal toppers and food.
URL:https://sku.is/event/sku-spring-25-cpg-showcase-pitch-event/
LOCATION:Robert B. Rowling Hall at the University of Texas McComb’s School of Business\, 300 W Martin Luther King Jr Blvd\, Austin\, TX\, 78705\, United States
CATEGORIES:Pitch Event
ATTACH;FMTTYPE=image/jpeg:https://files.sku.is/wp-content/uploads/2025/03/SKULogo-1-2-1-1-1-2.ai-1.jpg
END:VEVENT
END:VCALENDAR