BEGIN:VCALENDAR
VERSION:2.0
PRODID:-//SKU - ECPv6.15.20//NONSGML v1.0//EN
CALSCALE:GREGORIAN
METHOD:PUBLISH
X-ORIGINAL-URL:https://sku.is
X-WR-CALDESC:Events for SKU
REFRESH-INTERVAL;VALUE=DURATION:PT1H
X-Robots-Tag:noindex
X-PUBLISHED-TTL:PT1H
BEGIN:VTIMEZONE
TZID:America/Chicago
BEGIN:DAYLIGHT
TZOFFSETFROM:-0600
TZOFFSETTO:-0500
TZNAME:CDT
DTSTART:20240310T080000
END:DAYLIGHT
BEGIN:STANDARD
TZOFFSETFROM:-0500
TZOFFSETTO:-0600
TZNAME:CST
DTSTART:20241103T070000
END:STANDARD
BEGIN:DAYLIGHT
TZOFFSETFROM:-0600
TZOFFSETTO:-0500
TZNAME:CDT
DTSTART:20250309T080000
END:DAYLIGHT
BEGIN:STANDARD
TZOFFSETFROM:-0500
TZOFFSETTO:-0600
TZNAME:CST
DTSTART:20251102T070000
END:STANDARD
BEGIN:DAYLIGHT
TZOFFSETFROM:-0600
TZOFFSETTO:-0500
TZNAME:CDT
DTSTART:20260308T080000
END:DAYLIGHT
BEGIN:STANDARD
TZOFFSETFROM:-0500
TZOFFSETTO:-0600
TZNAME:CST
DTSTART:20261101T070000
END:STANDARD
END:VTIMEZONE
BEGIN:VEVENT
DTSTART;VALUE=DATE:20250505
DTEND;VALUE=DATE:20250510
DTSTAMP:20260422T134816
CREATED:20250424T151610Z
LAST-MODIFIED:20250424T151610Z
UID:10000048-1746403200-1746835199@sku.is
SUMMARY:Austin Startup Week
DESCRIPTION:Austin will be the epicenter of the CPG world May 5-9! Austin Consumer Week is a packed with activities focused on CPG\, with some of the industry’s top leaders heading to Austin for the event. \nSKU is proud to be one of the sponsors of this incredible week. Some of the highlights include: \nMay 5\nConsumer VC Live (4 p.m.):​ Mike Gelb will host a live podcast conversation with CPG legends Clayton Christopher and Brian Goldberg\, both managing partners at Astō Consumer Partners. Clayton is the co-founder of SKU and also founded Sweet Leaf Tea Co. (acquired by Nestlé)\, Deep Eddy Vodka (acquired by Heaven Hill Distilleries)\, and Waterloo Sparkling Water (acquired by Flexis Capital) and co-founder and former Managing Partner at CAVU VENTURES LLC.\nRequest to Join here  \nMay 6\nBevNET.com Taste Radio Meetup (5-7 p.m.): The meetup at Torchy’s Tacos will feature two hours of live podcast recordings and industry networking\, as well as adult and non-alcoholic beverages\, and appetizers. Join the Producer & Editor of Taste Radio\, Ray Latif\, and Taste Radio co-hosts John Craven\, Jacqui Brugliera and Mike Schneider\, along with industry professionals within the food\, beverage\, beer and beyond industries. SKU is a co-sponsor of this event.\nRSVP here \nMay 6\nKS WELI End of Year Celebration 2025 (9 a.m.): The Kendra Scott Women’s Entrepreneurial Leadership Institute (KS WELI) at The University of Texas at Austin strives to strengthen the next generation of leaders who will change the world in business and beyond.\nRSVP here \nMay 7\n2025 iFlyVC Consumer Summit (9 a.m.): This is a premier gathering of consumer innovators\, founders\, and investors from across the United States.\nThis day-long summit will feature engaging keynotes\, thought-provoking panels\, and networking opportunities designed to foster collaboration and inspiration among attendees. Join us as we soar into the future of consumer innovation!\nRSVP here \nMay 8\nTurn Up! CPG Happy Hour (5-7 p.m.: SKU\, Willpower and Marc Nathan are teaming up to present the launch of TexasCPG.org at a casual CPG Community Happy Hour and brand showcase.\nGet ticket here \nSee details about all of the week’s activities here.
URL:https://sku.is/event/austin-startup-week/
CATEGORIES:Meetup,Pitch Event,Summit
ATTACH;FMTTYPE=image/jpeg:https://files.sku.is/wp-content/uploads/2025/04/Austin-Consumer-Week-Linkedin-Image.jpg
END:VEVENT
END:VCALENDAR