BEGIN:VCALENDAR
VERSION:2.0
PRODID:-//SKU - ECPv6.15.20//NONSGML v1.0//EN
CALSCALE:GREGORIAN
METHOD:PUBLISH
X-ORIGINAL-URL:https://sku.is
X-WR-CALDESC:Events for SKU
REFRESH-INTERVAL;VALUE=DURATION:PT1H
X-Robots-Tag:noindex
X-PUBLISHED-TTL:PT1H
BEGIN:VTIMEZONE
TZID:America/Chicago
BEGIN:DAYLIGHT
TZOFFSETFROM:-0600
TZOFFSETTO:-0500
TZNAME:CDT
DTSTART:20230312T080000
END:DAYLIGHT
BEGIN:STANDARD
TZOFFSETFROM:-0500
TZOFFSETTO:-0600
TZNAME:CST
DTSTART:20231105T070000
END:STANDARD
BEGIN:DAYLIGHT
TZOFFSETFROM:-0600
TZOFFSETTO:-0500
TZNAME:CDT
DTSTART:20240310T080000
END:DAYLIGHT
BEGIN:STANDARD
TZOFFSETFROM:-0500
TZOFFSETTO:-0600
TZNAME:CST
DTSTART:20241103T070000
END:STANDARD
BEGIN:DAYLIGHT
TZOFFSETFROM:-0600
TZOFFSETTO:-0500
TZNAME:CDT
DTSTART:20250309T080000
END:DAYLIGHT
BEGIN:STANDARD
TZOFFSETFROM:-0500
TZOFFSETTO:-0600
TZNAME:CST
DTSTART:20251102T070000
END:STANDARD
END:VTIMEZONE
BEGIN:VEVENT
DTSTART;VALUE=DATE:20240810
DTEND;VALUE=DATE:20240811
DTSTAMP:20260419T140823
CREATED:20240604T142959Z
LAST-MODIFIED:20240604T142959Z
UID:10000037-1723248000-1723334399@sku.is
SUMMARY:DFW CPG Brand Showcase
DESCRIPTION:DFW CPG is hosting a Brand Showcase August 10 in Dallas. The Brand Showcase brings together the local CPG community\, connecting early- and mid-stage brands with retailers and industry partners. \nParticipating brands will have products to display and sample\, creating a great opportunity to see what’s new and next in CPG\, particularly among Texas brands.   If you’re interested in exhibiting your product\, please apply here and someone will get back to you with details.
URL:https://sku.is/event/dfw-cpg-brand-showcase/
LOCATION:Smurfit Kappa\, 125 E. John Carpenter Freeway\, Irving\, TX\, 75062\, United States
CATEGORIES:Brand Showcase
ATTACH;FMTTYPE=image/png:https://files.sku.is/wp-content/uploads/2024/06/DFW-CPG-4.png
END:VEVENT
BEGIN:VEVENT
DTSTART;VALUE=DATE:20240825
DTEND;VALUE=DATE:20240829
DTSTAMP:20260419T140823
CREATED:20240604T141830Z
LAST-MODIFIED:20240604T143108Z
UID:10000036-1724544000-1724889599@sku.is
SUMMARY:Newtopia Now
DESCRIPTION:New Hope Network’s first Newtopia Now will be held Aug. 25-28 in Denver. Newtopia Now\, which replaces Expo East\, is designed for natural and organic buyers to discover their next best-selling conscious products through facilitated connections\, deepened relationships\, and actionable and inspiring content. \nThe show will feature four neighborhoods\, each with its own booths\, stages\, content\, and food demos. The neighborhoods are Thrive\, Regenerate\, Represent\, and Glow\, and they offer a retail environment where buyers can scan items\, learn about trends\, and navigate the show floor. Confirmed attendees include buyers from Thrive Market\, Fresh Thyme Market\, The Vitamin Shoppe\, Target\, Walmart and Whole Foods.
URL:https://sku.is/event/newtopia-now/
LOCATION:Colorado Convention Center\, 700 14th Street\, Denver\, Colorado\, 80202\, United States
CATEGORIES:Trade Show
ATTACH;FMTTYPE=image/png:https://files.sku.is/wp-content/uploads/2024/06/newtopia-now.png
END:VEVENT
END:VCALENDAR