BEGIN:VCALENDAR
VERSION:2.0
PRODID:-//SKU - ECPv6.15.20//NONSGML v1.0//EN
CALSCALE:GREGORIAN
METHOD:PUBLISH
X-ORIGINAL-URL:https://sku.is
X-WR-CALDESC:Events for SKU
REFRESH-INTERVAL;VALUE=DURATION:PT1H
X-Robots-Tag:noindex
X-PUBLISHED-TTL:PT1H
BEGIN:VTIMEZONE
TZID:America/Chicago
BEGIN:DAYLIGHT
TZOFFSETFROM:-0600
TZOFFSETTO:-0500
TZNAME:CDT
DTSTART:20230312T080000
END:DAYLIGHT
BEGIN:STANDARD
TZOFFSETFROM:-0500
TZOFFSETTO:-0600
TZNAME:CST
DTSTART:20231105T070000
END:STANDARD
BEGIN:DAYLIGHT
TZOFFSETFROM:-0600
TZOFFSETTO:-0500
TZNAME:CDT
DTSTART:20240310T080000
END:DAYLIGHT
BEGIN:STANDARD
TZOFFSETFROM:-0500
TZOFFSETTO:-0600
TZNAME:CST
DTSTART:20241103T070000
END:STANDARD
BEGIN:DAYLIGHT
TZOFFSETFROM:-0600
TZOFFSETTO:-0500
TZNAME:CDT
DTSTART:20250309T080000
END:DAYLIGHT
BEGIN:STANDARD
TZOFFSETFROM:-0500
TZOFFSETTO:-0600
TZNAME:CST
DTSTART:20251102T070000
END:STANDARD
END:VTIMEZONE
BEGIN:VEVENT
DTSTART;TZID=America/Chicago:20240604T080000
DTEND;TZID=America/Chicago:20240604T170000
DTSTAMP:20260419T175452
CREATED:20240604T140637Z
LAST-MODIFIED:20240604T143238Z
UID:10000035-1717488000-1717520400@sku.is
SUMMARY:Startup CPG 1 Million Message Sent Celebration
DESCRIPTION:Join Startup CPG  from 5:30-8:30 June 6 to celebrate 1 million messages sent in our Slack community!! Huge thank you to our friends at SKU alum Leisure for hosting. \nFeatured Guests: \n– Darren Viscount\, Bristol Farms\n– Efrain Chacach\, Bristol Farms \nIf you’re a brand interested in demoing your products (food\, beverage\, health & beauty only)\, please apply through the form posted in the #community_losangeles channel in Slack. Register here to attend.
URL:https://sku.is/event/startup-cpg-1-million-message-sent-celebration/
LOCATION:Leisure Headquarters\, 3636 Sawtelle Boulevard\, Los Angeles\, CA\, 90066\, United States
CATEGORIES:Meetup
ATTACH;FMTTYPE=image/png:https://files.sku.is/wp-content/uploads/2024/06/Startup-CPG-2.png
END:VEVENT
BEGIN:VEVENT
DTSTART;TZID=America/Chicago:20240613T063000
DTEND;TZID=America/Chicago:20240613T210000
DTSTAMP:20260419T175452
CREATED:20240604T193507Z
LAST-MODIFIED:20240604T193507Z
UID:10000038-1718260200-1718312400@sku.is
SUMMARY:Naturally New York Pitch Slam After Party
DESCRIPTION:Join Naturally New York for  cocktails\, networking\, and celebration of our five talented finalists. Enjoy complimentary food and beverages at LS Social while connecting with the Naturally New York community and fellow members of the CPG industry.\n\nMember & Non-Member tickets available – TICKET REQUIRED FOR ENTRY
URL:https://sku.is/event/naturally-new-york-pitch-slam-after-party/
LOCATION:LS Social\, 11 W. 17th St.\, New York\, NY\, 10011\, United States
CATEGORIES:Pitch Event
ATTACH;FMTTYPE=image/png:https://files.sku.is/wp-content/uploads/2024/06/unnamed-2.png
END:VEVENT
BEGIN:VEVENT
DTSTART;VALUE=DATE:20240617
DTEND;VALUE=DATE:20240619
DTSTAMP:20260419T175452
CREATED:20240604T135817Z
LAST-MODIFIED:20240604T143213Z
UID:10000034-1718582400-1718755199@sku.is
SUMMARY:Naturally Network ConsciousCPG Summit\,
DESCRIPTION:ConsciousCPG Summit\, a flagship event hosted by Naturally Network and presented by NIQ and BeyondBrands\, is set to kick off on Monday\, June 17th\, through Tuesday\, June 18th\, 2024. \nThe ConsiousCPG Summit is a virtual event that promises to expand your knowledge of conscious values and uncover incredible practices and strategies happening in the industry today.The summit deep dives into Naturally Network’s conscious business transformation framework\, centered around the five “Ps”: passion\, purpose\, people\, planet\, and prosperity. Register here.
URL:https://sku.is/event/naturally-network-consciouscpg-summit/
LOCATION:Virtual
ATTACH;FMTTYPE=image/png:https://files.sku.is/wp-content/uploads/2024/06/NN_ConsciousCPG_Rec.png
END:VEVENT
BEGIN:VEVENT
DTSTART;VALUE=DATE:20240623
DTEND;VALUE=DATE:20240626
DTSTAMP:20260419T175452
CREATED:20240604T135150Z
LAST-MODIFIED:20240604T143147Z
UID:10000033-1719100800-1719359999@sku.is
SUMMARY:Summer Fancy Food Show
DESCRIPTION:Get ready to see\, sample\, and discover at the 68th Summer Fancy Food Show\, June 23-25\, 2024\, in New York City. Serving up the newest and best in specialty food and beverage\, the Summer Fancy Food Show attracts thousands of diverse makers\, buyers\, brokers\, distributors\, and industry professionals from across the U.S. and the globe for three days of delicious product discovery\, fruitful networking\, and inspiring business opportunities.
URL:https://sku.is/event/summer-fancy-food-show/
LOCATION:Javits Center\, 655 West 34th Street\, Manhattan\, New York\, 10014\, United States
ATTACH;FMTTYPE=image/webp:https://files.sku.is/wp-content/uploads/2024/06/summer-fancy-food-show-NN1Z-logo.webp
END:VEVENT
END:VCALENDAR