BEGIN:VCALENDAR
VERSION:2.0
PRODID:-//SKU - ECPv6.15.20//NONSGML v1.0//EN
CALSCALE:GREGORIAN
METHOD:PUBLISH
X-ORIGINAL-URL:https://sku.is
X-WR-CALDESC:Events for SKU
REFRESH-INTERVAL;VALUE=DURATION:PT1H
X-Robots-Tag:noindex
X-PUBLISHED-TTL:PT1H
BEGIN:VTIMEZONE
TZID:America/Chicago
BEGIN:DAYLIGHT
TZOFFSETFROM:-0600
TZOFFSETTO:-0500
TZNAME:CDT
DTSTART:20240310T080000
END:DAYLIGHT
BEGIN:STANDARD
TZOFFSETFROM:-0500
TZOFFSETTO:-0600
TZNAME:CST
DTSTART:20241103T070000
END:STANDARD
BEGIN:DAYLIGHT
TZOFFSETFROM:-0600
TZOFFSETTO:-0500
TZNAME:CDT
DTSTART:20250309T080000
END:DAYLIGHT
BEGIN:STANDARD
TZOFFSETFROM:-0500
TZOFFSETTO:-0600
TZNAME:CST
DTSTART:20251102T070000
END:STANDARD
BEGIN:DAYLIGHT
TZOFFSETFROM:-0600
TZOFFSETTO:-0500
TZNAME:CDT
DTSTART:20260308T080000
END:DAYLIGHT
BEGIN:STANDARD
TZOFFSETFROM:-0500
TZOFFSETTO:-0600
TZNAME:CST
DTSTART:20261101T070000
END:STANDARD
END:VTIMEZONE
BEGIN:VEVENT
DTSTART;TZID=America/Chicago:20251022T190000
DTEND;TZID=America/Chicago:20251022T210000
DTSTAMP:20260421T062056
CREATED:20251017T183848Z
LAST-MODIFIED:20251017T183848Z
UID:10000055-1761159600-1761166800@sku.is
SUMMARY:Austin Shopify Happy Hour
DESCRIPTION:It’s time for our first Happy Hour of the Fall!Meet ecommerce peers and make new connections. You’ll get to know ecommerce brand owners with multiple exits alongside those who are just starting their store. Meet experts who help stores with fulfillment\, SEO\, paid traffic\, email\, and design. Find your next hire among those seeking a job\, or get a tip on who is hiring. You don’t have to already be in the Shopify ecosystem to be welcome. Amazon store sellers curious about Shopify attend\, as do Magento\, Klaviyo\, & BigCommerce people with questions or ideas to share. \nEnjoy a free drink sponsored by ebusiness pros email marketing agency if you arrive before 7:45 p.m. There’s a taqueria on site if you’re hungry.
URL:https://sku.is/event/austin-shopify-happy-hour/
LOCATION:Plaza Saltillo\, 1300 E 4th St.\, Austin\, 78702\, United States
CATEGORIES:Happy Hour
ATTACH;FMTTYPE=image/jpeg:https://files.sku.is/wp-content/uploads/2025/10/Screenshot-2025-10-17-at-1.38.01-PM.jpg
END:VEVENT
BEGIN:VEVENT
DTSTART;TZID=America/Chicago:20251021T053000
DTEND;TZID=America/Chicago:20251021T193000
DTSTAMP:20260421T062056
CREATED:20251015T160056Z
LAST-MODIFIED:20251015T160056Z
UID:10000054-1761024600-1761075000@sku.is
SUMMARY:SKU Propeller Happy Hour
DESCRIPTION:Please join SKU from 5:30-7:30 p.m.\, Oct. 21 for Austin Happy Hour. We’ll be gathering at the Hotel ZaZa overlooking downtown Austin — the perfect setting for connecting with founders\, mentors\, and industry leaders. \nSKU happy hours are about much more than drinks. They represent what makes our community so powerful: building authentic relationships\, sparking new ideas\, celebrating our wins and helping each other with challenges. \nA big thank you to our Propeller Industries for sponsoring this event and being such an invaluable partner. Propeller is a leading strategic finance and accounting partner for venture-stage companies\, offering a dynamic\, fractional workforce solution that provides a cost-effective alternative to hiring full-time talent too early.
URL:https://sku.is/event/sku-propeller-happy-hour/
CATEGORIES:Happy Hour,Meetup
ATTACH;FMTTYPE=image/jpeg:https://files.sku.is/wp-content/uploads/2025/10/Copy-of-Copy-of-SKU-ATX-Happy-Hour-700-x-500-px.jpg
END:VEVENT
BEGIN:VEVENT
DTSTART;TZID=America/Chicago:20250630T173000
DTEND;TZID=America/Chicago:20250630T193000
DTSTAMP:20260421T062056
CREATED:20250603T134855Z
LAST-MODIFIED:20250624T135657Z
UID:10000051-1751304600-1751311800@sku.is
SUMMARY:SKU NYC Happy Hour
DESCRIPTION:​Are you attending the Fancy Foods Show or located in the NYC metropolitan area? SKU is hosting a happy hour on June 30th from 5:30–7:30pm ET in the Barrel Room at City Winery — just a 5-minute drive or a short walk from the Javits Center\, home of the Fancy Foods Show. \n​Enjoy small bites and beverages\, including our signature cocktail:\nThe Sample and Sparkle (aka Vineyard Spritz) – a refreshing mix of vodka\, Giffard Pêche de Vigne\, lime\, strawberry\, City Bubbles Cava\, and soda. \n​Special thanks to our sponsor\, Highlight – the first and only vertically integrated product insights platform\, helping emerging and disruptive brands build products people love. \n 
URL:https://sku.is/event/sku-nyc-happy-hour/
LOCATION:City Winery New York\, 25 11th Ave\, New York\, 10011\, United States
CATEGORIES:Happy Hour
ATTACH;FMTTYPE=image/jpeg:https://files.sku.is/wp-content/uploads/2025/06/Fancy-Foods-HH-asset-for-newsletter.jpg
END:VEVENT
BEGIN:VEVENT
DTSTART;TZID=America/Chicago:20250501T160000
DTEND;TZID=America/Chicago:20250501T180000
DTSTAMP:20260421T062056
CREATED:20250425T152615Z
LAST-MODIFIED:20250425T153012Z
UID:10000050-1746115200-1746122400@sku.is
SUMMARY:SKU Dallas Happy Hour
DESCRIPTION:Please join us for a gathering of mentors\, founders and Dallas CPG leaders at The Rustic from 4-6 p.m. May 1. It will be an opportunity to network with industry leaders\, share experiences\, and forge meaningful connections in a relaxed setting. Come unwind and raise a toast with us! We hope to see you there. \nA special thanks to SKU partner Foley & Lardner for sponsoring the happy hour. Foley & Lardner ‘s 80-plus Emerging Growth and Venture Capital attorneys understand the complex and diverse needs of venture funds\, portfolio companies\, and startups. They have guided hundreds of companies\, from startup to commercialization to liquidity events.
URL:https://sku.is/event/sku-dallas-happy-hour/
LOCATION:The Rustic\, 3656 Howell Street\, Dallas\, Texas\, 95204
CATEGORIES:Happy Hour
ATTACH;FMTTYPE=image/jpeg:https://files.sku.is/wp-content/uploads/2025/04/Dallas-Happy-Hour.jpg
END:VEVENT
END:VCALENDAR