BEGIN:VCALENDAR
VERSION:2.0
PRODID:-//SKU - ECPv6.15.20//NONSGML v1.0//EN
CALSCALE:GREGORIAN
METHOD:PUBLISH
X-ORIGINAL-URL:https://sku.is
X-WR-CALDESC:Events for SKU
REFRESH-INTERVAL;VALUE=DURATION:PT1H
X-Robots-Tag:noindex
X-PUBLISHED-TTL:PT1H
BEGIN:VTIMEZONE
TZID:America/Chicago
BEGIN:DAYLIGHT
TZOFFSETFROM:-0600
TZOFFSETTO:-0500
TZNAME:CDT
DTSTART:20220313T080000
END:DAYLIGHT
BEGIN:STANDARD
TZOFFSETFROM:-0500
TZOFFSETTO:-0600
TZNAME:CST
DTSTART:20221106T070000
END:STANDARD
BEGIN:DAYLIGHT
TZOFFSETFROM:-0600
TZOFFSETTO:-0500
TZNAME:CDT
DTSTART:20230312T080000
END:DAYLIGHT
BEGIN:STANDARD
TZOFFSETFROM:-0500
TZOFFSETTO:-0600
TZNAME:CST
DTSTART:20231105T070000
END:STANDARD
BEGIN:DAYLIGHT
TZOFFSETFROM:-0600
TZOFFSETTO:-0500
TZNAME:CDT
DTSTART:20240310T080000
END:DAYLIGHT
BEGIN:STANDARD
TZOFFSETFROM:-0500
TZOFFSETTO:-0600
TZNAME:CST
DTSTART:20241103T070000
END:STANDARD
END:VTIMEZONE
BEGIN:VEVENT
DTSTART;VALUE=DATE:20231108
DTEND;VALUE=DATE:20231110
DTSTAMP:20260422T211054
CREATED:20230412T202703Z
LAST-MODIFIED:20230413T155604Z
UID:10000028-1699401600-1699574399@sku.is
SUMMARY:Flavorcon 2023
DESCRIPTION:Flavorcon connects technical and business know-how for global innovation with the latest insights into trends\, ingredients\, formulations\, research and technology. Presented by Perfumer & Flavorist+\, this uniquely tailored event will dive into organoleptic science and technology\, regulations\, market data and insights and product development. With presentations by global thought leaders in the industry\, attendees will gain the insight and knowledge they need to create innovative flavors that consumers will savor for years to come.
URL:https://sku.is/event/flavoron-2023/
LOCATION:Duke Energy Convention Center\, 525 Elm Street\, Cincinnati\, OH\, 45202\, United States
ATTACH;FMTTYPE=image/png:https://files.sku.is/wp-content/uploads/2023/04/BzTPQ.png
END:VEVENT
END:VCALENDAR